BEGIN:VCALENDAR
VERSION:2.0
PRODID:-//CareER - ECPv6.6.0.2//NONSGML v1.0//EN
CALSCALE:GREGORIAN
METHOD:PUBLISH
X-ORIGINAL-URL:https://career.org.hk/?lang=zh-hant
X-WR-CALDESC:Events for CareER
REFRESH-INTERVAL;VALUE=DURATION:PT1H
X-Robots-Tag:noindex
X-PUBLISHED-TTL:PT1H
BEGIN:VTIMEZONE
TZID:Asia/Hong_Kong
BEGIN:STANDARD
TZOFFSETFROM:+0800
TZOFFSETTO:+0800
TZNAME:HKT
DTSTART:20220101T000000
END:STANDARD
END:VTIMEZONE
BEGIN:VEVENT
DTSTART;TZID=Asia/Hong_Kong:20220422T193000
DTEND;TZID=Asia/Hong_Kong:20220422T213000
DTSTAMP:20260421T105621
CREATED:20220321T032615Z
LAST-MODIFIED:20220328T064739Z
UID:10000018-1650655800-1650663000@career.org.hk
SUMMARY:英文學會活動
DESCRIPTION:日常生活總有不同經歷想分享，但怎樣可以透過故事形式將你所經歷的分享給身邊的人？\nCareER英文學會將會舉行第一次活動，以「Storytelling 101: Main Message and Structure」為主題，由CareER友師Ophelia及Vincent兩位主持與大家一齊學習如何成為一個英語「講故佬」，透過講故事與人分享你的經歷以及想表達的訊息。\n除咗學習「講故」，當晚更會有不同遊戲讓大家互相認識，一齊在學習路上同行！ \n\n英文學會活動 – Storytelling 101: Main Message and Structure \n日期：2022年4月22日（星期五） \n時間：晚上7:30 – 9:00 \n地點：Zoom （連結將於成功報名後透過電郵送出）
URL:https://career.org.hk/event/%e8%8b%b1%e6%96%87%e5%ad%b8%e6%9c%83%e6%b4%bb%e5%8b%95/?lang=zh-hant
LOCATION:Virtual Event (link will be provided upon successful event registration)
CATEGORIES:Member Get-together
ATTACH;FMTTYPE=image/png:https://career.org.hk/wp-content/uploads/2022/03/CareER-English-Club-簡報-169.png
END:VEVENT
END:VCALENDAR