BEGIN:VCALENDAR
VERSION:2.0
PRODID:-//CareER - ECPv6.6.0.2//NONSGML v1.0//EN
CALSCALE:GREGORIAN
METHOD:PUBLISH
X-WR-CALNAME:CareER
X-ORIGINAL-URL:https://career.org.hk
X-WR-CALDESC:Events for CareER
REFRESH-INTERVAL;VALUE=DURATION:PT1H
X-Robots-Tag:noindex
X-PUBLISHED-TTL:PT1H
BEGIN:VTIMEZONE
TZID:Asia/Hong_Kong
BEGIN:STANDARD
TZOFFSETFROM:+0800
TZOFFSETTO:+0800
TZNAME:HKT
DTSTART:20210101T000000
END:STANDARD
END:VTIMEZONE
BEGIN:VEVENT
DTSTART;TZID=Asia/Hong_Kong:20211016T090000
DTEND;TZID=Asia/Hong_Kong:20211016T170000
DTSTAMP:20260422T060921
CREATED:20220304T054834Z
LAST-MODIFIED:20220304T054839Z
UID:10000055-1634374800-1634403600@career.org.hk
SUMMARY:Inclusive Recruitment Fair cum DII Dissemination Ceremony
DESCRIPTION:This year\, we are proud to present you with our in-person Inclusive Recruitment Fair. 25 inclusive employers will join us at our Fair for higher educated people with SENs by providing readily available interview and networking opportunities on the spot. \nThis whole event will be divided into morning & afternoon sessions. Candidates will be presented with interview and networking opportunities with 3 selected companies in each session.
URL:https://career.org.hk/event/irf-cum-dii-dissemination-ceremony/
LOCATION:Hotel ICON\, HOTEL ICON\, 17 Science Museum Road Tsim Sha Tsui East\, Kowloon\, Hong Kong
ATTACH;FMTTYPE=image/jpeg:https://career.org.hk/wp-content/uploads/2022/03/IRF_promo-01-01.jpg
ORGANIZER;CN="CareER":MAILTO:info@career.org.hk
END:VEVENT
END:VCALENDAR