BEGIN:VCALENDAR
VERSION:2.0
PRODID:-//CareER - ECPv6.6.0.2//NONSGML v1.0//EN
CALSCALE:GREGORIAN
METHOD:PUBLISH
X-WR-CALNAME:CareER
X-ORIGINAL-URL:https://career.org.hk/?lang=zh-hant
X-WR-CALDESC:Events for CareER
REFRESH-INTERVAL;VALUE=DURATION:PT1H
X-Robots-Tag:noindex
X-PUBLISHED-TTL:PT1H
BEGIN:VTIMEZONE
TZID:Asia/Hong_Kong
BEGIN:STANDARD
TZOFFSETFROM:+0800
TZOFFSETTO:+0800
TZNAME:HKT
DTSTART:20220101T000000
END:STANDARD
END:VTIMEZONE
BEGIN:VEVENT
DTSTART;TZID=Asia/Hong_Kong:20220309T120000
DTEND;TZID=Asia/Hong_Kong:20220309T140000
DTSTAMP:20260421T161022
CREATED:20220303T082346Z
LAST-MODIFIED:20220322T094700Z
UID:10000048-1646827200-1646834400@career.org.hk
SUMMARY:賽馬會共融．知行計劃－CareER「疾風草」職涯發展計劃資訊日
DESCRIPTION:本年度賽馬會共融．知行計劃－CareER「疾風草」職涯發展計劃已開始接受報名！有興趣了解更多關於計劃內容，歡迎參與計劃資訊日及按此了解更多。 \n\n疾風草計劃資訊日 \n日期：2022年3月9日（星期三） \n時間：中午12時至下午2時 \n地點：Zoom/CareER Facebook專頁直播 \n語言：英文
URL:https://career.org.hk/event/%e8%b3%bd%e9%a6%ac%e6%9c%83%e5%85%b1%e8%9e%8d%ef%bc%8e%e7%9f%a5%e8%a1%8c%e8%a8%88%e5%8a%83%ef%bc%8dcareer%e3%80%8c%e7%96%be%e9%a2%a8%e8%8d%89%e3%80%8d%e8%81%b7%e6%b6%af%e7%99%bc%e5%b1%95%e8%a8%88/?lang=zh-hant
LOCATION:CareER FaceBook Live\, Hong Kong
CATEGORIES:「疾風草」
ATTACH;FMTTYPE=image/png:https://career.org.hk/wp-content/uploads/2022/03/2022-TG-INFO-Day-Live-graphic-副本.png
ORGANIZER;CN="CareER":MAILTO:info@career.org.hk
END:VEVENT
BEGIN:VEVENT
DTSTART;TZID=Asia/Hong_Kong:20220325T193000
DTEND;TZID=Asia/Hong_Kong:20220325T210000
DTSTAMP:20260421T161022
CREATED:20220303T101600Z
LAST-MODIFIED:20220323T102623Z
UID:10000054-1648236600-1648242000@career.org.hk
SUMMARY:[第三節] 電影學會活動
DESCRIPTION:電影同現實總有分別？不同有關精神健康嘅電影又符合現實嗎？\nCareER電影學會將會同大家一齊欣賞有關精神健康的電影，了解電影如何刻劃不同精神健康問題人士的形象。活動會分為三部分，每部分亦有特定主題，有興趣的會員歡迎登入會員平台報名參與！ \n\n電影學會活動 \n日期：\n2022年1月28日 下午7:30-9:00\n2022年2月25日 下午7:30-9:00\n2022年3月25日 下午7:30-9:00 \n地點：Zoom \n名額：5-10人
URL:https://career.org.hk/event/%e7%ac%ac%e4%b8%89%e7%af%80-%e9%9b%bb%e5%bd%b1%e5%ad%b8%e6%9c%83%e6%b4%bb%e5%8b%95/?lang=zh-hant
LOCATION:Virtual Event (link will be provided upon successful event registration)
CATEGORIES:Member Get-together
ATTACH;FMTTYPE=image/png:https://career.org.hk/wp-content/uploads/2022/03/Movie-Club-01.jpg
END:VEVENT
END:VCALENDAR