BEGIN:VCALENDAR
VERSION:2.0
PRODID:-//CareER - ECPv6.6.0.2//NONSGML v1.0//EN
CALSCALE:GREGORIAN
METHOD:PUBLISH
X-WR-CALNAME:CareER
X-ORIGINAL-URL:https://career.org.hk
X-WR-CALDESC:Events for CareER
REFRESH-INTERVAL;VALUE=DURATION:PT1H
X-Robots-Tag:noindex
X-PUBLISHED-TTL:PT1H
BEGIN:VTIMEZONE
TZID:Asia/Hong_Kong
BEGIN:STANDARD
TZOFFSETFROM:+0800
TZOFFSETTO:+0800
TZNAME:HKT
DTSTART:20200101T000000
END:STANDARD
END:VTIMEZONE
BEGIN:VEVENT
DTSTART;TZID=Asia/Hong_Kong:20200508T124500
DTEND;TZID=Asia/Hong_Kong:20201230T134500
DTSTAMP:20260426T122421
CREATED:20201230T102440Z
LAST-MODIFIED:20201230T102722Z
UID:10000020-1588941900-1609335900@career.org.hk
SUMMARY:Employer Lunch & Learn Webinar: Sharings on Gen Z and High Functional Autism (HFA)
DESCRIPTION:Date: 8 May\, Friday\nTime: 12:45pm – 1:45pm\nFormat: Zoom Video Conference\nLanguage: English
URL:https://career.org.hk/event/employer-lunch-learn-webinar-sharings-on-gen-z-and-high-functional-autism-hfa/
LOCATION:Virtual Meeting Room
CATEGORIES:Thriving Grass
ORGANIZER;CN="CareER":MAILTO:info@career.org.hk
END:VEVENT
END:VCALENDAR