BEGIN:VCALENDAR
VERSION:2.0
PRODID:-//CareER - ECPv6.6.0.2//NONSGML v1.0//EN
CALSCALE:GREGORIAN
METHOD:PUBLISH
X-ORIGINAL-URL:https://career.org.hk
X-WR-CALDESC:Events for CareER
REFRESH-INTERVAL;VALUE=DURATION:PT1H
X-Robots-Tag:noindex
X-PUBLISHED-TTL:PT1H
BEGIN:VTIMEZONE
TZID:Asia/Hong_Kong
BEGIN:STANDARD
TZOFFSETFROM:+0800
TZOFFSETTO:+0800
TZNAME:HKT
DTSTART:20210101T000000
END:STANDARD
END:VTIMEZONE
BEGIN:VEVENT
DTSTART;TZID=Asia/Hong_Kong:20210205T140000
DTEND;TZID=Asia/Hong_Kong:20210205T163000
DTSTAMP:20260426T114417
CREATED:20210127T034340Z
LAST-MODIFIED:20210325T073541Z
UID:10000031-1612533600-1612542600@career.org.hk
SUMMARY:Roundtable 2021
DESCRIPTION:With the sponsorship from The Hong Kong Jockey Club Charities Trust\, since 2019\, we have been launching our project “CareER Jockey Club Thriving Grass Career Development Program” for two years. Despite many challenges we all faced last year\, we could continue to provide career development in supporting higher educated persons with disabilities and SENs. \nCome to 2021\, we are going to organize 3rd Roundtable event aiming to bring about exchange of ideas\, inspirations and expertise sharing on Mental Wellbeing and Peer Support among Higher Education Institutions\, SEN office representatives and CareER members. \nDate: 5 February 2021 (Fri)  \nTime: 2:00pm – 4:30pm  \nFormat: Video Conference \nLanguage: Cantonese
URL:https://career.org.hk/event/roundtable-2021/
LOCATION:Virtual Event
ORGANIZER;CN="CareER":MAILTO:info@career.org.hk
END:VEVENT
END:VCALENDAR