BEGIN:VCALENDAR
VERSION:2.0
PRODID:-//CareER - ECPv6.6.0.2//NONSGML v1.0//EN
CALSCALE:GREGORIAN
METHOD:PUBLISH
X-ORIGINAL-URL:https://career.org.hk
X-WR-CALDESC:Events for CareER
REFRESH-INTERVAL;VALUE=DURATION:PT1H
X-Robots-Tag:noindex
X-PUBLISHED-TTL:PT1H
BEGIN:VTIMEZONE
TZID:Asia/Hong_Kong
BEGIN:STANDARD
TZOFFSETFROM:+0800
TZOFFSETTO:+0800
TZNAME:HKT
DTSTART:20210101T000000
END:STANDARD
END:VTIMEZONE
BEGIN:VEVENT
DTSTART;TZID=Asia/Hong_Kong:20210409T170000
DTEND;TZID=Asia/Hong_Kong:20210409T183000
DTSTAMP:20260426T115928
CREATED:20210325T074608Z
LAST-MODIFIED:20210325T074613Z
UID:10000033-1617987600-1617993000@career.org.hk
SUMMARY:Job Skills Training Workshop: Ignite Your Futuristic Career Possibility
DESCRIPTION:Are you looking for an innovation-driven career? How much do you agree with the notion that “creativity is just connecting things”? Ever wonder what’re some of the most groundbreaking technologies out of a plethora of emerging accessibility and assistive technologies? \nCome sign up for this event and spark conversations with professionals from the top-notch tech giant which is best-known for its trailblazing and breakthrough innovations! \nDate: 9 April\, 2021 (Fri) \nTime: 5:00 – 6:30pm \nFormat: Zoom (link to be sent via confirmation email) \nLanguage: English \nDress Code: Smart Casual \nQuota: 25 (Priority will be given to Thriving Grass Program participants)
URL:https://career.org.hk/event/job-skills-training-workshop-ignite-your-futuristic-career-possibilit/
LOCATION:Virtual Meeting Room
CATEGORIES:Thriving Grass
ORGANIZER;CN="CareER":MAILTO:info@career.org.hk
END:VEVENT
END:VCALENDAR