BEGIN:VCALENDAR
VERSION:2.0
PRODID:-//CareER - ECPv6.6.0.2//NONSGML v1.0//EN
CALSCALE:GREGORIAN
METHOD:PUBLISH
X-WR-CALNAME:CareER
X-ORIGINAL-URL:https://career.org.hk
X-WR-CALDESC:Events for CareER
REFRESH-INTERVAL;VALUE=DURATION:PT1H
X-Robots-Tag:noindex
X-PUBLISHED-TTL:PT1H
BEGIN:VTIMEZONE
TZID:Asia/Hong_Kong
BEGIN:STANDARD
TZOFFSETFROM:+0800
TZOFFSETTO:+0800
TZNAME:HKT
DTSTART:20210101T000000
END:STANDARD
END:VTIMEZONE
BEGIN:VEVENT
DTSTART;TZID=Asia/Hong_Kong:20210424T100000
DTEND;TZID=Asia/Hong_Kong:20210424T120000
DTSTAMP:20260423T043840
CREATED:20210427T090135Z
LAST-MODIFIED:20210427T090142Z
UID:10000035-1619258400-1619265600@career.org.hk
SUMMARY:Career Coaching Workshop: Experiencing the Spark in You
DESCRIPTION:???? Are you a strong believer in the unlimited potential and talents of individuals? \n???? What strengths do you possess and how to bring them out at work? \n???? Ever wonder what career coaching can do for you? \nWhen we are more aware of our most neutral\, authentic and energising traits\, we know who we are and what we can offer better. This essential first step can lead us to career and life satisfaction. \nStarting in 2020\, we have been using a self-assessment called the VIA Character Strengths to support our career coaches and members in recognising your core strengths and cultivating a strength-based development approach within our community. \nIn this coming workshop\, we’ll guide you to explore your unique qualities through experiential exercise and group coaching. \nDate: 24 April\, 2021 (Fri) \nTime: 10:00am-12:00nn \nVenue: CareER Office* \nAddress: 6/F\, Hung To Centre\, 94 – 96 How Ming Street\, Ngau Tau Kok\, Kowloon \nLanguage: Cantonese (English interpretation available upon request) \nDress Code: Smart Casual \nQuota: 25 (Priority will be given to Thriving Grass Program participants) \nRegister before 16 Apr\, (Fri) noon:https://forms.gle/ARYmNkcxrBw6Cy5K7 \n*If COVID situation becomes worse again\, we will change it to online \nIf you have any questions regarding the workshop\, please feel free to contact Alison on 9165 8816. \nLooking forward to meeting you!
URL:https://career.org.hk/event/career-coaching-workshop-experiencing-the-spark-in-you/
LOCATION:Hung To Centre\, 6/F Hung To Center\, 94-96 How Ming Street\, Kwun Tong\, Hong Kong
ORGANIZER;CN="CareER":MAILTO:info@career.org.hk
END:VEVENT
END:VCALENDAR