BEGIN:VCALENDAR
VERSION:2.0
PRODID:-//CareER - ECPv6.6.0.2//NONSGML v1.0//EN
CALSCALE:GREGORIAN
METHOD:PUBLISH
X-ORIGINAL-URL:https://career.org.hk
X-WR-CALDESC:Events for CareER
REFRESH-INTERVAL;VALUE=DURATION:PT1H
X-Robots-Tag:noindex
X-PUBLISHED-TTL:PT1H
BEGIN:VTIMEZONE
TZID:Asia/Hong_Kong
BEGIN:STANDARD
TZOFFSETFROM:+0800
TZOFFSETTO:+0800
TZNAME:HKT
DTSTART:20210101T000000
END:STANDARD
END:VTIMEZONE
BEGIN:VEVENT
DTSTART;TZID=Asia/Hong_Kong:20210430T193000
DTEND;TZID=Asia/Hong_Kong:20210430T210000
DTSTAMP:20260423T073030
CREATED:20210427T084759Z
LAST-MODIFIED:20210427T085308Z
UID:10000034-1619811000-1619816400@career.org.hk
SUMMARY:Alumni Sharing – Honest Workplace Communication Regarding SENs and Leaning into Your Authentic Self
DESCRIPTION:???? Ever wonder how you can lean into self-acceptance with your SENs? \n???? Ever had trouble articulating your needs to your employer and colleague effectively? \n???? Do you wish to network with other fellow CareER members and alumni? \nIn this coming alumni sharing\, we’re delighted to present you with an opportunity to network and engage in meaningful conversations with fellow CareER members and our two alumni\, Cat Cheung and Jonathan Mok\, on how to gain self-acceptance with your SENs and how to articulate your needs to your employer and colleague. \nOur first speaker\, Cat\, is a graphic designer who believes in the importance of self-acceptance. She dedicates herself to better the world through graphic design and digital marketing. \nOur second speaker\, Jonathan\, is a seasoned education professional who commits himself to the empowerment of the marginalised. He believes in the importance of articulating your special needs through skilful workplace communication. \nRegistration will be served on a first-come\, first-served basis. An email will be sent to you upon successful registration. \nDate: 30 April\, 2021 (Fri) \nTime: 7:30-9:00pm \nVenue: CareER Office* \nAddress: 6/F\, Hung To Centre\, 94 – 96 How Ming Street\, Ngau Tau Kok\, Kowloon \nLanguage: Cantonese (English interpretation available upon request) \nDress Code: Smart Casual \nQuota: 10 \nRegister before 28 Apr\, (Wed):https://forms.gle/28YCGQ3Wd98ppk1g6 \n*If COVID situation becomes worse again\, we will change it to online \nIf you have any questions regarding the alumni sharing\, please feel free to contact Alison on 9165 8816 or Michelle on 9165 0042. \nLooking forward to meeting you!
URL:https://career.org.hk/event/alumni-sharing-honest-workplace-communication-regarding-sens-and-leaning-into-your-authentic-self/
LOCATION:Hung To Centre\, 6/F Hung To Center\, 94-96 How Ming Street\, Kwun Tong\, Hong Kong
CATEGORIES:Career Workshops (Thriving Grass),Thriving Grass
ORGANIZER;CN="CareER":MAILTO:info@career.org.hk
END:VEVENT
END:VCALENDAR