BEGIN:VCALENDAR
VERSION:2.0
PRODID:-//CareER - ECPv6.6.0.2//NONSGML v1.0//EN
CALSCALE:GREGORIAN
METHOD:PUBLISH
X-WR-CALNAME:CareER
X-ORIGINAL-URL:https://career.org.hk
X-WR-CALDESC:Events for CareER
REFRESH-INTERVAL;VALUE=DURATION:PT1H
X-Robots-Tag:noindex
X-PUBLISHED-TTL:PT1H
BEGIN:VTIMEZONE
TZID:Asia/Hong_Kong
BEGIN:STANDARD
TZOFFSETFROM:+0800
TZOFFSETTO:+0800
TZNAME:HKT
DTSTART:20210101T000000
END:STANDARD
END:VTIMEZONE
BEGIN:VEVENT
DTSTART;TZID=Asia/Hong_Kong:20210708T160000
DTEND;TZID=Asia/Hong_Kong:20210708T180000
DTSTAMP:20260422T192850
CREATED:20210708T025700Z
LAST-MODIFIED:20210708T030029Z
UID:10000039-1625760000-1625767200@career.org.hk
SUMMARY:HKEX CareER Training Workshop – Making Work\, Work!
DESCRIPTION:This year\, HKEX is partnering with CareER again to bring you this one on one job skills training workshop. Join us this sweet afternoon to meet with career coaches from HKEX and hear from interns and managers about their experiences of working there! \nDate: 8 July\, 2021 (Thu) \nTime: 4:00pm – 6:00pm \nVenue: HKEX Office – 8/F\, Two Exchange Square \nAddress: 8/F\, Two Exchange Square\, 8 Connaught Place\, Central \nLanguage: English \nDress Code: Smart Casual \nPlease contact Alison (9165 8816) / Rebecca (9165 5365) if you have any questions. Looking forward to meeting you soon!
URL:https://career.org.hk/event/hkex-career-training-workshop-making-work-work/
LOCATION:Hong Kong
ORGANIZER;CN="CareER":MAILTO:info@career.org.hk
END:VEVENT
END:VCALENDAR