BEGIN:VCALENDAR
VERSION:2.0
PRODID:-//CareER - ECPv6.6.0.2//NONSGML v1.0//EN
CALSCALE:GREGORIAN
METHOD:PUBLISH
X-ORIGINAL-URL:https://career.org.hk/?lang=zh-hant
X-WR-CALDESC:Events for CareER
REFRESH-INTERVAL;VALUE=DURATION:PT1H
X-Robots-Tag:noindex
X-PUBLISHED-TTL:PT1H
BEGIN:VTIMEZONE
TZID:Asia/Hong_Kong
BEGIN:STANDARD
TZOFFSETFROM:+0800
TZOFFSETTO:+0800
TZNAME:HKT
DTSTART:20210101T000000
END:STANDARD
END:VTIMEZONE
BEGIN:VEVENT
DTSTART;TZID=Asia/Hong_Kong:20210818T120000
DTEND;TZID=Asia/Hong_Kong:20210818T140000
DTSTAMP:20260422T071938
CREATED:20210804T084107Z
LAST-MODIFIED:20210804T084113Z
UID:10000041-1629288000-1629295200@career.org.hk
SUMMARY:CareER X Teach for Hong Kong 網上講座
DESCRIPTION:日期：2021年8月18日（星期三） \n時間：中午12時至下午2時 \n地點：網上舉行 \n語言：廣東話 \n人數：25 \n聯絡人：Alison (9165 8816) / Emilia (emilia@career.org.hk) \n立即報名
URL:https://career.org.hk/event/career-x-teach-for-hong-kong-%e7%b6%b2%e4%b8%8a%e8%ac%9b%e5%ba%a7/?lang=zh-hant
LOCATION:Virtual Meeting Room
ORGANIZER;CN="CareER":MAILTO:info@career.org.hk
END:VEVENT
END:VCALENDAR