BEGIN:VCALENDAR
VERSION:2.0
PRODID:-//CareER - ECPv6.6.0.2//NONSGML v1.0//EN
CALSCALE:GREGORIAN
METHOD:PUBLISH
X-WR-CALNAME:CareER
X-ORIGINAL-URL:https://career.org.hk
X-WR-CALDESC:Events for CareER
REFRESH-INTERVAL;VALUE=DURATION:PT1H
X-Robots-Tag:noindex
X-PUBLISHED-TTL:PT1H
BEGIN:VTIMEZONE
TZID:Asia/Hong_Kong
BEGIN:STANDARD
TZOFFSETFROM:+0800
TZOFFSETTO:+0800
TZNAME:HKT
DTSTART:20210101T000000
END:STANDARD
END:VTIMEZONE
BEGIN:VEVENT
DTSTART;TZID=Asia/Hong_Kong:20210827T140000
DTEND;TZID=Asia/Hong_Kong:20210827T154500
DTSTAMP:20260422T123436
CREATED:20210806T035035Z
LAST-MODIFIED:20210806T035041Z
UID:10000043-1630072800-1630079100@career.org.hk
SUMMARY:CareER x J.P. Morgan Job Skills Training Workshop
DESCRIPTION:Do you know exactly what risk management and compliance entails? As a newly risen profession in the recent decades\, many are interested in this position but very few know what they should need to succeed in it. \nThis year\, we have again teamed up with J.P. Morgan to bring you this online training workshop to brush up your interviewing skills and let you learn more about the finance sector. In this workshop\, guests from J.P. Morgan will share their work in risk management and compliance\, and also introduce you to their recruitment process. Besides this\, you will also get a chance to meet with volunteers from J.P. Morgan and have a one-on-one session with them! If you are preparing yourself for job-searching\, then this workshop will definitely help you with brushing up on your interview skills and knowledge of the job market. Sign up for the workshop now if you want to improve yourself this summer! \nDate: Aug 27\, 2021 (Fri)(Saturday and Sunday) \nTime: 2pm – 3:45pm \nVenue: Online (the Zoom Link will be sent to you upon successful registration) \nLanguage: English \nQuota: 20 \nContact Persons: Alison (9165 8816) / Rebecca (9165 5365) \nClick here to register before 19th of August 12:00nn. \nLooking forward to seeing you!
URL:https://career.org.hk/event/career-x-j-p-morgan-job-skills-training-workshop/
LOCATION:Virtual Event (link will be provided upon successful event registration)
CATEGORIES:Thriving Grass
ORGANIZER;CN="CareER":MAILTO:info@career.org.hk
END:VEVENT
END:VCALENDAR