BEGIN:VCALENDAR
VERSION:2.0
PRODID:-//CareER - ECPv6.6.0.2//NONSGML v1.0//EN
CALSCALE:GREGORIAN
METHOD:PUBLISH
X-WR-CALNAME:CareER
X-ORIGINAL-URL:https://career.org.hk/?lang=zh-hant
X-WR-CALDESC:Events for CareER
REFRESH-INTERVAL;VALUE=DURATION:PT1H
X-Robots-Tag:noindex
X-PUBLISHED-TTL:PT1H
BEGIN:VTIMEZONE
TZID:Asia/Hong_Kong
BEGIN:STANDARD
TZOFFSETFROM:+0800
TZOFFSETTO:+0800
TZNAME:HKT
DTSTART:20210101T000000
END:STANDARD
END:VTIMEZONE
BEGIN:VEVENT
DTSTART;VALUE=DATE:20211127
DTEND;VALUE=DATE:20211213
DTSTAMP:20260422T035026
CREATED:20211025T085936Z
LAST-MODIFIED:20220304T074133Z
UID:10000045-1637971200-1639353599@career.org.hk
SUMMARY:CareER潛能無限線上慈善跑2021
DESCRIPTION:「CareER潛能無限線上慈善跑2021」是CareER第六個大型慈善籌款活動，我們希望透過是次籌款活動繼續提升大眾對大專或以上學歷殘疾人士需要的認知、支援CareER的工作，同時於12月3日慶祝及紀念「國際殘疾人日」。 \n說到高學歷殘疾及有特殊教育需要人士，我們深信各界的包容及支持絕對是不可缺少的元素。不論你是僱主、教育機構、公眾、或CareER會員，都對於推動企業傷健共融有著非常重要的角色！ \n因此，今年活動以「跑聚共融，結伴同行」為主題，我們希望鼓勵公眾和企業/團體跑手攜手同行支持傷健共融，跨越國家及地域邊界，共同努力並支持CareER使命，協助更多大專學歷殘疾人士於職場邁步！ \n活動將以線上紀錄形式進行，於活動期間無論你在何時、何地，只要你想跑都可以隨時進行 \n快啲踏出你嘅一步，透過以下連結參加啦！ \n日期：27/11/2021 – 12/12/2021 \n時間：活動期內 \n地點：不限 \n賽事： \n\nCareER潛能無限線上慈善跑2021 – 個人組別3KM：https://bit.ly/3jeavzh\nCareER潛能無限線上慈善跑2021 – 個人組別10KM：https://bit.ly/2XsbFPS\nCareER潛能無限線上慈善跑2021 – 企業組別50KM：https://bit.ly/3ATgxLv
URL:https://career.org.hk/event/career%e6%bd%9b%e8%83%bd%e7%84%a1%e9%99%90%e7%b7%9a%e4%b8%8a%e6%85%88%e5%96%84%e8%b7%912021/?lang=zh-hant
LOCATION:Virtual Event
CATEGORIES:Fund-raising Events
ATTACH;FMTTYPE=image/png:https://career.org.hk/wp-content/uploads/2021/10/CareER_RunnERthon-Online-2021_Banner-01-1.png
ORGANIZER;CN="CareER":MAILTO:info@career.org.hk
END:VEVENT
END:VCALENDAR