BEGIN:VCALENDAR
VERSION:2.0
PRODID:-//CareER - ECPv6.6.0.2//NONSGML v1.0//EN
CALSCALE:GREGORIAN
METHOD:PUBLISH
X-ORIGINAL-URL:https://career.org.hk
X-WR-CALDESC:Events for CareER
REFRESH-INTERVAL;VALUE=DURATION:PT1H
X-Robots-Tag:noindex
X-PUBLISHED-TTL:PT1H
BEGIN:VTIMEZONE
TZID:Asia/Hong_Kong
BEGIN:STANDARD
TZOFFSETFROM:+0800
TZOFFSETTO:+0800
TZNAME:HKT
DTSTART:20210101T000000
END:STANDARD
END:VTIMEZONE
BEGIN:VEVENT
DTSTART;TZID=Asia/Hong_Kong:20211219T123000
DTEND;TZID=Asia/Hong_Kong:20211219T160000
DTSTAMP:20260422T074253
CREATED:20220304T060528Z
LAST-MODIFIED:20220304T060606Z
UID:10000056-1639917000-1639929600@career.org.hk
SUMMARY:Member Get together: CareER X’mas Party 2021
DESCRIPTION:We know many of you are busy studying and working recently. But let’s anticipate the semester break and holidays in December! CareER Student Committee is preparing the annual CareER X’mas Party where we can meet our CareER friends and chill out together! \nIn this Christmas gathering\, we’ll play festive party games\, board games\, enjoy party food\, and have some chit-chats together. What’s more\, is that we’ll have a X’mas Gift Exchange session with a funny rule! Come join us for a hassle-free party! \n\nDate: 19 Dec 2021 (Sun) \nTime: 12:00 nn – 4:00 pm \nVenue: Paragon Wellness \nContents: \n\n\n\n12:30 -13:30\nParty Games\n\n\n\n13:30-14:00 \n\n\nX’mas Gift Exchange \n\n\n\n\n14:00-15:00 \n\n\nParty Food \n\n\n\n\n15:00-16:00 \n\n\nFree Activity (Chit-chat\, playing board games etc.) \n\n\n\n\n  \n  \n  \n  \n  \nFee: Free of charge \nQuota: 30 people (on a first-come\, first-served basis) \nLanguage: Cantonese (Supplementary in English) \nContact Person: Rex (56189908)/Phoebe (5138 0343) \nRegistration: https://forms.gle/osehvDLpjATFT1Gn6  \nDeadline: 2 December 2021 (Thu) \nShould you have any inquiries\, please do not hesitate to WhatsApp PICs Rex (56189908)/Phoebe (5138 0343) or send an email to studentcommittee@career.org.hk.
URL:https://career.org.hk/event/career-xmas-party-2021/
CATEGORIES:Member Get-together
ATTACH;FMTTYPE=image/jpeg:https://career.org.hk/wp-content/uploads/2022/03/party-01.jpg
END:VEVENT
END:VCALENDAR