BEGIN:VCALENDAR
VERSION:2.0
PRODID:-//CareER - ECPv6.6.0.2//NONSGML v1.0//EN
CALSCALE:GREGORIAN
METHOD:PUBLISH
X-ORIGINAL-URL:https://career.org.hk
X-WR-CALDESC:Events for CareER
REFRESH-INTERVAL;VALUE=DURATION:PT1H
X-Robots-Tag:noindex
X-PUBLISHED-TTL:PT1H
BEGIN:VTIMEZONE
TZID:Asia/Hong_Kong
BEGIN:STANDARD
TZOFFSETFROM:+0800
TZOFFSETTO:+0800
TZNAME:HKT
DTSTART:20220101T000000
END:STANDARD
END:VTIMEZONE
BEGIN:VEVENT
DTSTART;TZID=Asia/Hong_Kong:20220325T193000
DTEND;TZID=Asia/Hong_Kong:20220325T210000
DTSTAMP:20260421T224710
CREATED:20220303T101600Z
LAST-MODIFIED:20220323T102550Z
UID:10000053-1648236600-1648242000@career.org.hk
SUMMARY:[Session 3] Movie Club Series - Movie Talk - Mental Illnesses in Movies
DESCRIPTION:Here’s some good news for our movie buff members! We hereby introduce a new series of member events\, the Movie Club series\, which centres on the discourse on the portrayal of mental illnesses in Hollywood movies. Are you eager to empathize and relate to your peers through constructive conversations? Are you fascinated by the multi-faceted and intricate human experiences\, especially the experiences of those who are suffering from mental illness(es)? The movie club series is an excellent opportunity for you to do just that. \nIn this series of events\, we will uncover the nuances behind a certain kind of portrayal of mental illnesses in movies. Each month\, you will get to have constructive discussions on one or two specific mental illness(es) that are often misunderstood in the public discourse\, the discussion will centre on the recommended movies for each session. If you can’t watch all of the suggested movies in time for the sessions\, we’ll provide you with the plots of the movies. \n\nMovie Club Series – Movie Talk on Mental Illnesses \nSession 1: Depression\, Loneliness and Social Support \nDate: 28 Jan 2022 (Fri) \nTime: 7:30 pm to 9:00 pm  \nZoom (Zoom link will be sent to you after successful registration) \nSession 2: The Stigmatization of Borderline Personality Disorder and Anti Social Personality Disorder \nDate: 25 Feb 2022 (Fri) \nTime: 7:30 pm to 9:00 pm  \nZoom (Zoom link will be sent to you after successful registration) \nSession 3: Different Portrayals of Schizophrenia \nDate: 25 Mar 2022 (Fri) \nTime: 7:30 pm to 9:00 pm  \nZoom (Zoom link will be sent to you after successful registration) \nLanguage: Cantonese (Supplementary in English) \nQuota: 5 – 10 people \nContact Person: Rebecca Yiu 9165 5365
URL:https://career.org.hk/event/movie-club-3/
LOCATION:Virtual Event (link will be provided upon successful event registration)
CATEGORIES:Member Get-together
ATTACH;FMTTYPE=image/jpeg:https://career.org.hk/wp-content/uploads/2022/03/Movie-Club-01.jpg
END:VEVENT
END:VCALENDAR