BEGIN:VCALENDAR
VERSION:2.0
PRODID:-//CareER - ECPv6.6.0.2//NONSGML v1.0//EN
CALSCALE:GREGORIAN
METHOD:PUBLISH
X-ORIGINAL-URL:https://career.org.hk
X-WR-CALDESC:Events for CareER
REFRESH-INTERVAL;VALUE=DURATION:PT1H
X-Robots-Tag:noindex
X-PUBLISHED-TTL:PT1H
BEGIN:VTIMEZONE
TZID:Asia/Hong_Kong
BEGIN:STANDARD
TZOFFSETFROM:+0800
TZOFFSETTO:+0800
TZNAME:HKT
DTSTART:20220101T000000
END:STANDARD
END:VTIMEZONE
BEGIN:VEVENT
DTSTART;TZID=Asia/Hong_Kong:20220408T193000
DTEND;TZID=Asia/Hong_Kong:20220408T210000
DTSTAMP:20260421T223656
CREATED:20220323T101023Z
LAST-MODIFIED:20220323T101028Z
UID:10000017-1649446200-1649451600@career.org.hk
SUMMARY:Alumni Sharing – Uncover Your Career Passion Limitlessly
DESCRIPTION:Sometimes we may feel confused at study or work. Wondering if this program or job is truly suitable for me? Do I really like what I’m taking? What should I do if I want to make a change? \nIn the upcoming workshop\, we’re delighted to have our CareER alumni\, Augustine Wong and Sandy Ma\, who both establish a career that is completely different from their bachelor studies\, to share their journey in searching for their passion and pursuing a fulfilling career. \nWe will start off with the individual speeches and then we’ll have the small group chit-chat session where you may spark conversations with a guest and CareER fellows! \n\nAlumni Sharing – Uncover Your Career Passion Limitlessly \nDate: 8 Apr 2022 (Fri) \nTime: 7:30 pm to 9:00 pm \nVenue: Zoom \nLanguage: Cantonese (English and sign interpretation available upon request) \nQuota: 20 \nSharing Guests:   \n|| Sandy Ma \nOur first speaker\, Sandy Ma\, is a graduate with a Master’s degree in Psychology who now works tirelessly as a youth program worker. She will shed light on how she uncovered her calling as a mental wellness professional while she’s having her bachelor’s studies in English. There will also be sprinkles of tips on career mapping in attaining your career aspirations. \n|| Augustine Wong \nNext up\, our second speaker\, Augustine Wong\, who’s currently the DevOps Assistant Lead at a tech startup\, will share with us his stories in searching for his career passion during his bachelor studies in Linguistics. As a firm believer in “there are always solutions amidst the problems in life”\, he is waiting to meet you all and brainstorm together ways to tackle your difficulties in career and personal development. \nRegister before 31 Mar 2022 (Thu): \nhttps://careerhk.force.com/Member/s/login/
URL:https://career.org.hk/event/alumni-sharing-uncover-your-career-passion-limitlessly/
LOCATION:Virtual Event (link will be provided upon successful event registration)
CATEGORIES:Member Get-together
ATTACH;FMTTYPE=image/png:https://career.org.hk/wp-content/uploads/2022/03/Alumni-Sharing.png
END:VEVENT
BEGIN:VEVENT
DTSTART;TZID=Asia/Hong_Kong:20220409T100000
DTEND;TZID=Asia/Hong_Kong:20220409T120000
DTSTAMP:20260421T223656
CREATED:20220404T024630Z
LAST-MODIFIED:20220404T034145Z
UID:10000004-1649498400-1649505600@career.org.hk
SUMMARY:CareER Coaching Workshop
DESCRIPTION:Coaching has always been a key important element in our Thriving Grass Program as well as during our daily conversations on self and career development. We are delighted to host online the first Coaching Workshop on Apr 9 Sat morning\, with our Coaches providing more insights and a real interactive coaching experience to each participant. Don’t miss out on this opportunity if you are keen to speak to our Coaches on life and career matters\, or simply just curious to know about the magic of coaching! \n\nCareER Coaching Workshop \nDate: 9 Apr 2022 (Sat) \nTime: 10:00 am – 12:00 nn \nVenue: Zoom \nLanguage: Cantonese and English \nQuota: 15 (priority for Thriving Grass Program participants) \nRegister before 6 Apr 2022 (Wed): \nhttps://careerhk.force.com/Member/s/login/ \nShould you have any inquiries\, please do not hesitate to Ada (9165 7355 / ada@career.org.hk) or Jason (9165 6532 / jason@career.org.hk) \nWe look forward to seeing you at this event!
URL:https://career.org.hk/event/career-coaching-workshop-2/
LOCATION:Virtual Event (link will be provided upon successful event registration)
CATEGORIES:Career Workshops (Thriving Grass)
ATTACH;FMTTYPE=image/png:https://career.org.hk/wp-content/uploads/2022/04/Coaching-Workshop-簡報-169.png
END:VEVENT
END:VCALENDAR