BEGIN:VCALENDAR
VERSION:2.0
PRODID:-//CareER - ECPv6.6.0.2//NONSGML v1.0//EN
CALSCALE:GREGORIAN
METHOD:PUBLISH
X-ORIGINAL-URL:https://career.org.hk/?lang=zh-hant
X-WR-CALDESC:Events for CareER
REFRESH-INTERVAL;VALUE=DURATION:PT1H
X-Robots-Tag:noindex
X-PUBLISHED-TTL:PT1H
BEGIN:VTIMEZONE
TZID:Asia/Hong_Kong
BEGIN:STANDARD
TZOFFSETFROM:+0800
TZOFFSETTO:+0800
TZNAME:HKT
DTSTART:20220101T000000
END:STANDARD
END:VTIMEZONE
BEGIN:VEVENT
DTSTART;TZID=Asia/Hong_Kong:20220408T193000
DTEND;TZID=Asia/Hong_Kong:20220408T210000
DTSTAMP:20260421T174021
CREATED:20220323T101023Z
LAST-MODIFIED:20220328T053811Z
UID:10000001-1649446200-1649451600@career.org.hk
SUMMARY:友師分享 – Uncover Your Career Passion Limitlessly
DESCRIPTION:「轉工」確實是人生一大難題，應選擇與學歷相關或追隨自己理想？如果你都面對相同或類似問題，以下活動絕對適合你！我們將會舉行舊生分享會；介時會由兩位CareER友師分享他們以往的經驗，希望藉住分享可以解答到大家對「轉工」疑難。 \n\n友師分享 – Uncover Your Career Passion Limitlessly \n日期：2022年4月8日（星期五） \n晚上7:30 – 9:00 \n地點：Zoom （連結將於成功報名後透過電郵送出） \n語言：廣東話（如有需要可提供英語及手語翻譯） \n名額：20人 \n截止報名日期：2022年3月31日（星期四） \nhttps://careerhk.force.com/Member/s/login/
URL:https://career.org.hk/event/%e5%8f%8b%e5%b8%ab%e5%88%86%e4%ba%ab-uncover-your-career-passion-limitlessly/?lang=zh-hant
LOCATION:Virtual Event (link will be provided upon successful event registration)
CATEGORIES:Member Get-together
ATTACH;FMTTYPE=image/png:https://career.org.hk/wp-content/uploads/2022/03/Alumni-Sharing.png
END:VEVENT
BEGIN:VEVENT
DTSTART;TZID=Asia/Hong_Kong:20220409T100000
DTEND;TZID=Asia/Hong_Kong:20220409T120000
DTSTAMP:20260421T174021
CREATED:20220404T024630Z
LAST-MODIFIED:20220404T034146Z
UID:10000005-1649498400-1649505600@career.org.hk
SUMMARY:職涯啟導工作坊
DESCRIPTION:職涯啓導是「疾風草」計劃中其中一個重要元素，但甚麼是職涯啓導？當中又如何幫助自己發掘自己的職涯方向？如果你都有以上疑問，就不要錯過以下工作坊！ \n我們將會舉行本年度第一次「職涯啟導工作坊」，當日將會由導師透過一對一及小組活動陪同大家一齊了解及體驗職涯啟導，完結前更會有分享環節讓大家互相分享自己的感受同啟發。 \n\nCareER職涯啟導工作坊 \n日期：2022年4月9日（星期六） \n時間：上午10:00 – 中午12:00 \n地點：Zoom \n語言：廣東話及英語 \n名額：15（「疾風草」計劃參加者優先） \n截止報名日期：2022年4月6日（星期三） \nhttps://careerhk.force.com/Member/s/login/ \n如有任何疑問，歡迎聯絡Ada (9165 7355 / ada@career.org.hk) 或 Jason (9165 6532 / jason@career.org.hk)
URL:https://career.org.hk/event/%e8%81%b7%e6%b6%af%e5%95%9f%e5%b0%8e%e5%b7%a5%e4%bd%9c%e5%9d%8a/?lang=zh-hant
LOCATION:Virtual Event (link will be provided upon successful event registration)
CATEGORIES:Career Workshops (Thriving Grass)
ATTACH;FMTTYPE=image/png:https://career.org.hk/wp-content/uploads/2022/04/Coaching-Workshop-簡報-169.png
END:VEVENT
END:VCALENDAR