BEGIN:VCALENDAR
VERSION:2.0
PRODID:-//CareER - ECPv6.6.0.2//NONSGML v1.0//EN
CALSCALE:GREGORIAN
METHOD:PUBLISH
X-WR-CALNAME:CareER
X-ORIGINAL-URL:https://career.org.hk
X-WR-CALDESC:Events for CareER
REFRESH-INTERVAL;VALUE=DURATION:PT1H
X-Robots-Tag:noindex
X-PUBLISHED-TTL:PT1H
BEGIN:VTIMEZONE
TZID:Asia/Hong_Kong
BEGIN:STANDARD
TZOFFSETFROM:+0800
TZOFFSETTO:+0800
TZNAME:HKT
DTSTART:20220101T000000
END:STANDARD
END:VTIMEZONE
BEGIN:VEVENT
DTSTART;TZID=Asia/Hong_Kong:20220417T150000
DTEND;TZID=Asia/Hong_Kong:20220417T164500
DTSTAMP:20260422T001803
CREATED:20220329T070059Z
LAST-MODIFIED:20220404T022704Z
UID:10000002-1650207600-1650213900@career.org.hk
SUMMARY:Member Get-Together - Zentangle Around Easter
DESCRIPTION:We may feel frustrated\, worried and distressed amid the covid situation\, let’s spend a moment to pay attention to our own mental health and stress condition. Meditation is a good means to connect our mind and body. It could help increase both physical and mental peace and calm as well as help you to learn how to live more fully in the present. At the same time\, Zentangle promotes concentration and creativity\, also\, increases personal well being. Here is an activity for you to de-stress: Zentangle Around Easter! \nIn this activity\, you can get a taste of both meditation and Zentangle at the same time\, to allow yourself to be aware of your own mental health and inner peace and explore different ways of self-care. Moreover\, you can create your own easter egg card in the Zentangle session. This activity will definitely bring you an enjoyable afternoon while staying indoors and chances to meet new friends and try something new\, and give support to each other in this difficult time. We look forward to seeing you at this event. \n\nMember Get-Together: Zentangle Around Easter \nDate: 17 Apr 2022 (Sun) \nTime: 3:00 pm – 4:45 pm \nVenue: Zoom \nLanguage: Cantonese (Supplementary in English) \nQuota: 20 (on a first-come\, first-served basis) \nAgenda: \n\n\n\n\n15:00 \n\n\nSign in zoom \n\n\n\n\n15:00-15:20 \n\n\nIntroduction to meditation \n\n\n\n\n15:20-16:15 \n\n\nHandcraft time (easter egg card\, Zentangle) \n\n\n\n\n16:15-16:25 \n\n\nBreak time \n\n\n\n\n16:25-16:40 \n\n\nSharing + Chit Chat \n\n\n\n\n16:40-16:45 \n\n\nGroup Photos + Summary \n\n\n\n\n16:45 \n\n\nActivity ends \n\n\n\n\n  \n  \n  \n  \n  \n  \n  \n  \n  \nRegister before 8 Apr 2022 (Mon): \nhttps://careerhk.force.com/Member/s/login/ \nSuccessful applicants will receive a confirmation email in the week of 11 April 2022 and confirm their attendance by 15 April 2022. \nShould you have any inquiries\, please do not hesitate to WhatsApp PICs: Gilbert (6226 7316) / Theo (5544 8603) or send an email to studentcommittee@career.org.hk. \nWe look forward to seeing you at this event!
URL:https://career.org.hk/event/zentangle-around-easter/
LOCATION:Virtual Event (link will be provided upon successful event registration)
CATEGORIES:Member Get-together
ATTACH;FMTTYPE=image/png:https://career.org.hk/wp-content/uploads/2022/03/Zentangle-Art-Easter-簡報-169.png
END:VEVENT
END:VCALENDAR