BEGIN:VCALENDAR
VERSION:2.0
PRODID:-//CareER - ECPv6.6.0.2//NONSGML v1.0//EN
CALSCALE:GREGORIAN
METHOD:PUBLISH
X-ORIGINAL-URL:https://career.org.hk
X-WR-CALDESC:Events for CareER
REFRESH-INTERVAL;VALUE=DURATION:PT1H
X-Robots-Tag:noindex
X-PUBLISHED-TTL:PT1H
BEGIN:VTIMEZONE
TZID:Asia/Hong_Kong
BEGIN:STANDARD
TZOFFSETFROM:+0800
TZOFFSETTO:+0800
TZNAME:HKT
DTSTART:20200101T000000
END:STANDARD
END:VTIMEZONE
BEGIN:VEVENT
DTSTART;TZID=Asia/Hong_Kong:20200821T123000
DTEND;TZID=Asia/Hong_Kong:20200821T143000
DTSTAMP:20260426T092437
CREATED:20201231T035653Z
LAST-MODIFIED:20201231T035653Z
UID:10000019-1598013000-1598020200@career.org.hk
SUMMARY:CareER Jockey Club Thriving Grass Career Development Program Virtual Graduation
DESCRIPTION:CareER Jockey Club Thriving Grass Career Development Program Virtual Graduation  \nDate: 21 August 2020 (Friday) \nTime: 12:30 pm – 2:00 pm \nLanguage: Cantonese (interpretation services will be provided upon request) \nAgenda (Please see attached file for more details): \n12:30 – 13:20  Intern Sharing on Facebook live \n13:20 – 14:00  Small Group Mingling at Zoom Breakout Room \nNotes:   \n\nPlease note that this webinar is compulsory for all CareER Jockey Club Thriving Grass Career Development Program participants.\nFor Thriving Grass Program participants who need to apply leave from work\, CareER could provide attendance proof upon request.\nAn E-certificate will be sent to your email afterwards.\n\nIf you have any questions\, please look for Celina by celina@career.org.hk or Alison by alison@career.org.hk.
URL:https://career.org.hk/event/career-jockey-club-thriving-grass-career-development-program-virtual-graduation/
LOCATION:Virtual Meeting Room
CATEGORIES:Thriving Grass
ORGANIZER;CN="CareER":MAILTO:info@career.org.hk
END:VEVENT
BEGIN:VEVENT
DTSTART;TZID=Asia/Hong_Kong:20200807T193000
DTEND;TZID=Asia/Hong_Kong:20200807T210000
DTSTAMP:20260426T092437
CREATED:20200712T112553Z
LAST-MODIFIED:20200712T115033Z
UID:10000026-1596828600-1596834000@career.org.hk
SUMMARY:Career Counselling Workshop 2: Art of Communication
DESCRIPTION:Interpersonal and communication skills are inevitable in achieving workplace success. At this workshop\, you’ll learn how to interact with colleagues effectively\, handle conflicts at work and establish positive relationships. \nDate: August 7\, 2020 (Fri) \nTime: 7:30 – 9 pm \nVenue: https://zoom.us/j/7953090870 \nSpeaker: Maisie Lo\, Gears Counseling and Development Centre \nLanguages: Cantonese \nQuota: 20 \nAgenda: \n• DISC Personality Test – Understand Your Behavioural Pattern• Conflict Resolution Strategies• Positive Workplace Relationship Tips   \nRegistration (Deadline: 13 July\, Mon): \nCheck out more about the series of Career Counselling Workshops in July and August below and sign it up here before 13 July\, Mon:https://docs.google.com/forms/d/e/1FAIpQLScUFdAygQ4Gz7S0g2Ym6AItlI0UqrO3WdiMOzlnrKj5HnWzyQ/viewform?usp=sf_link \nNotes:1. All three workshops will be conducted in Cantonese but English interpretation available upon request.2. Seats are limited and priority will be given to Thriving Grass Program participants.
URL:https://career.org.hk/event/career-counselling-workshop-2-art-of-communication/
LOCATION:Virtual Event (link will be provided upon successful event registration)
ORGANIZER;CN="CareER":MAILTO:info@career.org.hk
END:VEVENT
BEGIN:VEVENT
DTSTART;TZID=Asia/Hong_Kong:20200806T123000
DTEND;TZID=Asia/Hong_Kong:20200806T140000
DTSTAMP:20260426T092437
CREATED:20201231T040728Z
LAST-MODIFIED:20201231T040728Z
UID:10000029-1596717000-1596722400@career.org.hk
SUMMARY:CareER x SVhk Webinar: Reimagining the City with Social Innovation
DESCRIPTION:In the face of the recent social challenges\, how can we rethink the way we live and untangle the problems? \nThis August\, we’re excited to co-host a lunch webinar with Social Ventures Hong Kong to explore the possibilities for our future city through social innovation! \nDate: Aug 6\, 2020 (Thu)\nTime: 12:30 – 14:00 pm \nFormat: Webinar \nLanguages: Cantonese\nQuota: 25 \nIn this workshop\, you’ll be meeting a group of passionate and social-minded youngsters from SVhk and CareER to discuss together: \n\nWhat’re your observations on the “New Normal” and recent changes in the city?\nWhy is it important for everyone to innovate to make a positive change?\nHow can we discover our social mission and take a step forward?\n\nNotes:  \n\nSeats are limited and priority will be given to Thriving Grass Program participants.\nThriving Grass Program participants applying leave from work\, CareER could provide attendance proof upon request.\n\nFind out more about SVhk here: \nhttp://sv-hk.org/
URL:https://career.org.hk/event/career-x-svhk-webinar-reimagining-the-city-with-social-innovation/
LOCATION:Virtual Meeting Room
CATEGORIES:Career Workshops (Thriving Grass)
ORGANIZER;CN="CareER":MAILTO:info@career.org.hk
END:VEVENT
BEGIN:VEVENT
DTSTART;TZID=Asia/Hong_Kong:20200730T150000
DTEND;TZID=Asia/Hong_Kong:20200730T163000
DTSTAMP:20260426T092437
CREATED:20200722T104722Z
LAST-MODIFIED:20200722T105621Z
UID:10000024-1596121200-1596126600@career.org.hk
SUMMARY:CareER x JP Morgan Job Skills Training Workshop
DESCRIPTION:Have you wondered how to start a career in the finance field even you’re not holding a degree in Finance? Are you having any obstacles that limit you to achieve your career goals? \nThis summer\, we’re excited to co-host the job skills training workshop with JP Morgan! \nDate: July 30\, 2020 (Thu) \nTime: 3:00p.m. – 4:30p.m \nFormat: Webinar (link to be sent via confirmation) \nLanguages: English \nQuota: 20 \nAgenda: \n• “How non-Traditional Candidates can Start Career in a Financial Institution”\, by JP Morgan Team• “Shifting our Mindset to Achieve our Biggest Goals”\, by Sho Dewan\, CareER Career Coach• 1 on 1 Mock Interview Session \nRegistration (Deadline: 21 July\, Tue): \nDon’t miss this valuable opportunity to learn and network! Sign it up here before 21 July\, (Tue):https://forms.gle/nFHeMrdNTKpc18Q96 \nNotes:1. Seats are limited and priority will be given to Thriving Grass Program participants.2. Thriving Grass Program participants applying leave from work\, CareER could provide an attendance proof upon request.
URL:https://career.org.hk/event/career-x-jp-morgan-job-skills-training-workshop/
LOCATION:Virtual Event
ORGANIZER;CN="CareER":MAILTO:info@career.org.hk
END:VEVENT
BEGIN:VEVENT
DTSTART;TZID=Asia/Hong_Kong:20200717T193000
DTEND;TZID=Asia/Hong_Kong:20200717T210000
DTSTAMP:20260426T092437
CREATED:20200712T111551Z
LAST-MODIFIED:20200712T113703Z
UID:10000027-1595014200-1595019600@career.org.hk
SUMMARY:Career Counselling Workshop 1: Business Etiquette
DESCRIPTION:Wonders how to better blend into the workplace? This workshop teaches you the basic principles of office etiquette that help you establish a positive personal image and build up healthy relationships with your colleagues. \nDate: July 17\, 2020 (Fri) \nTime: 7:30 – 9 pm \nVenue: https://zoom.us/j/7953090870 \nSpeaker: Walter Hui\, Gears Counseling and Development Centre \nLanguages: Cantonese \nQuota: 20 \nAgenda: \n• DISC Personality Test• First Impression Management• Workplace Communication Etiquette \nRegistration (Deadline: 13 July\, Mon): \nCheck out more about the series of Career Counselling Workshops in July and August below and sign it up here before 13 July\, Mon:https://docs.google.com/forms/d/e/1FAIpQLScUFdAygQ4Gz7S0g2Ym6AItlI0UqrO3WdiMOzlnrKj5HnWzyQ/viewform?usp=sf_link \nNotes:1. All three workshops will be conducted in Cantonese but English interpretation available upon request.2. Seats are limited and priority will be given to Thriving Grass Program participants.
URL:https://career.org.hk/event/career-counselling-workshop-1-business-etiquette/
LOCATION:Virtual Event (link will be provided upon successful event registration)
ORGANIZER;CN="CareER":MAILTO:info@career.org.hk
END:VEVENT
BEGIN:VEVENT
DTSTART;TZID=Asia/Hong_Kong:20200619T183000
DTEND;TZID=Asia/Hong_Kong:20200619T203000
DTSTAMP:20260426T092437
CREATED:20200712T104115Z
LAST-MODIFIED:20200712T115435Z
UID:10000012-1592591400-1592598600@career.org.hk
SUMMARY:Career Coaching Workshop
DESCRIPTION:Work with your peers and coaches at CareER and participate in coaching exercises to better understand your career. \nDate: June 19\, 2020 (Fri) \nTime: 6:30 – 8:30pm \nLanguage: English and Cantonese \nLocation: https://zoom.us/j/7953090870 \n 
URL:https://career.org.hk/event/career-coaching-workshop/
LOCATION:Hong Kong
ORGANIZER;CN="CareER":MAILTO:info@career.org.hk
END:VEVENT
BEGIN:VEVENT
DTSTART;TZID=Asia/Hong_Kong:20200611T160000
DTEND;TZID=Asia/Hong_Kong:20200611T173000
DTSTAMP:20260426T092437
CREATED:20200712T103211Z
LAST-MODIFIED:20200722T110502Z
UID:10000013-1591891200-1591896600@career.org.hk
SUMMARY:CareER X Goldman Sachs Job Skills Training Workshop
DESCRIPTION:Meet the Team at Goldman Sachs and Learn How to Succeed in the Workplace: \n• Finance Industry Landscape• Internship Hacks• 1:1 Career Coaching \nDate: June 11\, 2020 (Thu) \nTime: 4 – 5:30pm \nLanguage: English and Cantonese (primarily English) \nLocation: https://zoom.us/j/7953090870 \n 
URL:https://career.org.hk/event/career-x-goldman-sachs-job-skills-training-workshop/
LOCATION:Hong Kong
ORGANIZER;CN="CareER":MAILTO:info@career.org.hk
END:VEVENT
BEGIN:VEVENT
DTSTART;TZID=Asia/Hong_Kong:20200508T124500
DTEND;TZID=Asia/Hong_Kong:20201230T134500
DTSTAMP:20260426T092437
CREATED:20201230T102440Z
LAST-MODIFIED:20201230T102722Z
UID:10000020-1588941900-1609335900@career.org.hk
SUMMARY:Employer Lunch & Learn Webinar: Sharings on Gen Z and High Functional Autism (HFA)
DESCRIPTION:Date: 8 May\, Friday\nTime: 12:45pm – 1:45pm\nFormat: Zoom Video Conference\nLanguage: English
URL:https://career.org.hk/event/employer-lunch-learn-webinar-sharings-on-gen-z-and-high-functional-autism-hfa/
LOCATION:Virtual Meeting Room
CATEGORIES:Thriving Grass
ORGANIZER;CN="CareER":MAILTO:info@career.org.hk
END:VEVENT
BEGIN:VEVENT
DTSTART;TZID=Asia/Hong_Kong:20200426T150000
DTEND;TZID=Asia/Hong_Kong:20200426T170000
DTSTAMP:20260426T092437
CREATED:20200712T095448Z
LAST-MODIFIED:20200712T100138Z
UID:10000014-1587913200-1587920400@career.org.hk
SUMMARY:Together Vs Virus Happy Zoom Meeting
DESCRIPTION:Do you feel bored staying long at home during the virus outbreak? What can we do without meeting friends for long apart from lying on the bed and surfing the net? \nTo promote integration among members of diverse backgrounds\, CareER Student Committee is going to organize “Together Vs Virus Happy Zoom Meeting” where you’ll meet and play games with other CareER friends over Zoom at home this April! \nDate: 26th April 2020 (Sunday) \nTime: 15:00 – 17:00 \nVenue: Zoom \nFee: Free of charge \nQuota: 20 \nLanguage:  Cantonese mostly \nRegistration: https://forms.gle/2tRBhxFRHc5XUj956 \nDeadline: 20th April 2020 (Monday)
URL:https://career.org.hk/event/together-vs-virus-happy-zoom-meeting/
LOCATION:Hong Kong
ORGANIZER;CN="CareER":MAILTO:info@career.org.hk
END:VEVENT
BEGIN:VEVENT
DTSTART;TZID=Asia/Hong_Kong:20200409T150000
DTEND;TZID=Asia/Hong_Kong:20200409T163000
DTSTAMP:20260426T092438
CREATED:20200401T103122Z
LAST-MODIFIED:20200722T110441Z
UID:10000016-1586444400-1586449800@career.org.hk
SUMMARY:CareER x LinkedIn Job Skills Training Workshop
DESCRIPTION:CareER is excited to collaborate with LinkedIn to bring you all a hands-on job skills workshop! Here you will fine tune your career goals\, personal brand\, and job interview skills! \nDate: 9 April\, 2020 (Thu) \nTime: 3 – 4:30 pm \nZoom Meeting Room: https://zoom.us/j/7953090870 \nQuota: 20 (with priority given to summer internship candidates) \nLanguage: English \nAgenda: \n• Online Profiling• Top 25 Future Skills• Discover your Passion and Self-Leadership• Small-Group Career Coaching \nRegistration (Deadline: 31 Mar\, Tue): \nhttps://forms.gle/B3f8a6C7GWut9FoD7
URL:https://career.org.hk/event/career-x-linkedin-job-skills-training-workshop/
LOCATION:Hong Kong
ORGANIZER;CN="CareER":MAILTO:info@career.org.hk
END:VEVENT
BEGIN:VEVENT
DTSTART;TZID=Asia/Hong_Kong:20200403T143000
DTEND;TZID=Asia/Hong_Kong:20200403T163000
DTSTAMP:20260426T092438
CREATED:20200130T122715Z
LAST-MODIFIED:20200312T041312Z
UID:10000010-1585924200-1585931400@career.org.hk
SUMMARY:CareER Jockey Club “Thriving Grass” Career Development Program
DESCRIPTION:We are excited to announce that the new round of application for the two-year program CareER Jockey Club “Thriving Grass” Career Development Program「CareER賽馬會「疾風草」職涯發展計劃 」has now started! \nThis program is designed to provide you with comprehensive career and personal development supports through: \nSummer internship opportunities working at corporate\, social enterprise\, NGOs and start-ups\, inclusive employers in 2019 include: \nMNCs and Corporate \nAXA\, Allianz\, Bloomberg\, Capital Group\, Cherrypicks\, HACTL\, HKEX\, and Pinsent Masons \nSocial Enterprises / NGOs \nEbenezer\, CareER\, Encompass\, Greenpeace\, Hong Kong Playground Association\, Kapok Classroom\, Ohmykids\, RunOurCity\, The Society for the Relief of Disabled Children\, SVHK and Teach For Hong Kong \nSMEs / Start-ups \nFastfloow\, Famekey\, Hello Tour\, and Shane Education \n A series of job skills training workshops covering workplace communication\, personal branding\, and career planning. \n SEN Discovery O’Camp and networking events such as alumni sharing\, wine tasting and seasonal gatherings\, at which you can develop valuable leadership and peer bondings. \nCareer coaching and counseling supports conducted by qualified professionals. \n  \nHOW TO APPLY? \nFor university students and graduates with disabilities or SENs\, please \n(1) Mark on your calendar to join the Information Day* \nDate: 21 March 2020 (Sat) \nTime: 10 am to 12:30 pm \nVenue: Basement B1\, Hotel ICON\, 17 Science Museum Road\, Tsim Sha Tsui East \nRegistration Deadline: 13 March 2020 (Fri) \n*Please note that this is a compulsory event for interested participants in this career development program. \n(2) Submit your latest CV to join the “Thriving Grass” Career Development Program*\nRegistration Deadline: 30 April 2020 (Thu) \n*Early application will greatly increase your chance(s) of getting an internship offer(s). \nAPPLY NOW: https://forms.gle/g898rvoZrRDKvaNS6 \n  \nIf you have any queries\, please contact Alison by recruitment@career.org.hk or at 9165 8816. We look forward to hearing back from you soon!
URL:https://career.org.hk/event/career-jockey-club-thriving-grass-career-development-program/
LOCATION:CareER FaceBook Live\, Hong Kong
ORGANIZER;CN="CareER":MAILTO:info@career.org.hk
END:VEVENT
BEGIN:VEVENT
DTSTART;TZID=Asia/Hong_Kong:20200403T143000
DTEND;TZID=Asia/Hong_Kong:20200403T160000
DTSTAMP:20260426T092438
CREATED:20200401T102653Z
LAST-MODIFIED:20200401T103301Z
UID:10000028-1585924200-1585929600@career.org.hk
SUMMARY:Information Day (Rescheduled to webinar)
DESCRIPTION:Have you wondered? \n\nHow can I get my dream internship?\nWhat are things I can do to make sure I get the most out of my internship experience?\nWhat is career coaching and counseling?\n\nThe upcoming Information Day will address all of these questions and more! We will share more details about our program and share learnings from last year’s interns and employers. \nDate: 3 April\, 2020 (Fri) \nTime: 2:30 – 4:00pm \nFacebook Live Stream: https://www.facebook.com/careerhk \nLanguage: Cantonese mostly \nAgenda: \n\n Introduction to the CDP\n Panel Sharing by Inclusive Employers and former CareER Interns\n CareER as a Student/Alumni Union\nOverview of Career Coaching and VIA Assessment \n Understanding Mental Health and Wellness
URL:https://career.org.hk/event/information-day-rescheduled-to-webinar/
LOCATION:Hong Kong
ORGANIZER;CN="CareER":MAILTO:info@career.org.hk
END:VEVENT
BEGIN:VEVENT
DTSTART;TZID=Asia/Hong_Kong:20200313T140000
DTEND;TZID=Asia/Hong_Kong:20200313T170000
DTSTAMP:20260426T092438
CREATED:20201230T094629Z
LAST-MODIFIED:20201230T103036Z
UID:10000021-1584108000-1584118800@career.org.hk
SUMMARY:2nd Round-table Discussion in collaboration with Higher Education Institutions
DESCRIPTION:CareER 賽馬會「疾風草」職涯發展計劃\nCareER Jockey Club “Thriving Grass” Career Development Program \n2nd Round-table Discussion in collaboration with Higher Education Institutions\nDate: 13 March 2020 (Fri)\nTime: 2:00pm – 5:00pm\nFormat: Video Conference (Zoom\, a video webinar software)\nLanguage: Cantonese mostly
URL:https://career.org.hk/event/2nd-round-table-discussion-in-collaboration-with-higher-education-institutions/
LOCATION:Virtual Meeting Room
CATEGORIES:Thriving Grass
ORGANIZER;CN="CareER":MAILTO:info@career.org.hk
END:VEVENT
BEGIN:VEVENT
DTSTART;TZID=Asia/Hong_Kong:20200227T073000
DTEND;TZID=Asia/Hong_Kong:20200227T213000
DTSTAMP:20260426T092438
CREATED:20200220T095301Z
LAST-MODIFIED:20200402T033947Z
UID:10000011-1582788600-1582839000@career.org.hk
SUMMARY:Student committee 2020 info-day
DESCRIPTION:CareER 除咗係一個義務工作配對平台外，仲希望連繫一班來自各院校嘅高學歷殘疾人士，因此我哋每年都會籌辦不同嘅會員活動。現正，我哋誠邀一班熱心服務嘅會員及大專朋友成為學生大使，協助籌辦來年嘅會員活動。 \n想知道更多關於學生大使嘅工作？想成為學生大使？各位CareER會員同想推動 Diversity and Inclusion (D&I) 嘅大專朋友，記得黎我地嘅招莊大會了解一下! \nDate: 27 Feb (Thur) or 28 Feb (Fri)\nTime: 7:30pm – 9:30pm\nFormat: Video Conference (Zoom\, a video webinar software) \nRundown:\n7:30 – 8:30  Part One – Info Session and Group Chat with the current SC team\n8:30 – 9:30  Part Two – One-on-one chit-chat* with CareER staff\n*individual timeslots will be announced later
URL:https://career.org.hk/event/student-committee-2020/
LOCATION:Hong Kong
ORGANIZER;CN="CareER":MAILTO:info@career.org.hk
END:VEVENT
END:VCALENDAR